BEGIN:VCALENDAR
VERSION:2.0
PRODID:-//Tukios.com/
BEGIN:VEVENT
UID:9dde8206-df6e-4314-bff5-58a909fcfc9b@www.866allfaiths.com
DTSTAMP:20260423T231405Z
DTSTART:20260613T150000Z
DTEND:20260613T160000Z
SUMMARY:Visitation
DESCRIPTION:
URL:https://www.866allfaiths.com/obituaries/dennis-bieri
LOCATION:Monona United Methodist Church 606 Nichols Road  Monona WI 53716
GEO:43.0619884;-89.3349555
END:VEVENT
END:VCALENDAR