BEGIN:VCALENDAR
VERSION:2.0
PRODID:-//Tukios.com/
BEGIN:VEVENT
UID:1378a439-f1eb-40fb-b669-b2f70c6ba48e@www.866allfaiths.com
DTSTAMP:20260423T232057Z
DTSTART:20260613T160000Z
DTEND:20260613T170000Z
SUMMARY:Memorial Service
DESCRIPTION:
URL:https://www.866allfaiths.com/obituaries/dennis-bieri
LOCATION:Monona United Methodist Church 606 Nichols Road  Monona WI 53716
GEO:43.0619884;-89.3349555
END:VEVENT
END:VCALENDAR